Workbook

Sheet Anleitung+Lizenz
A1: Eine Anleitung für die Verwendung der Tools findet sich in dem seperaten Dokument "Anleitung_Potentialanalyse_Hardware.pdf" und unter https://opentransfer.eu/[Hier muss noch der spezielle Link unserer Webseite rein]
A2: Potentialanalyse Open Hardware © 2026 by Leibniz-IPHT is licensed under CC BY-SA 4.0. To view a copy of this license, visit https://creativecommons.org/licenses/by-sa/4.0/

Sheet Bewertungsbogen
A1: Bewertungstool HARDWARE
A2: Tool zur Einschätzung des Verwertungspotentials von Hardware, basierend auf der Einschätzung verschiedener Aspekte (vier Dimensionen). Zusätzlich wird eine Handlungsempfehlung für die nächsten Schritte sowie eine Einschätzung gegeben, ob die Hardware für eine Ausgründung geeignet ist.
A3: 1. Eingabe der allgemeinen Informationen der zu bewertenden Hardware, um diese später identifizieren zu können. | E3: 2. Festlegen der Schwellenwerte (in Prozent)
A4: Institution | E4: Dimensionen | F4: Bewertung | G4: Zuversicht | I4: Bewertung | J4: Vollständigkeit Startup
A5: Case ID | E5: Hardware | F5: 0.6 | G5: 0.7 | I5: =F23 -> 0 | J5: =IFERROR((COUNTIFS(M14:M22,">0",L14:L22,">0")+COUNTIFS(M27:M33,">0",L27:L33,">0")+COUNTIFS(M38:M43,">0",L38:L43,">0")+COUNTIFS(M48:M53,">0",L48:L53,">0"))/(COUNTIFS(F14:F22,"<>nicht relevant",L14:L22,">0")+COUNTIFS(F27:F33,"<>nicht relevant",L27:L33,">0")+COUNTIFS(F38:F43,"<>nicht relevant",L38:L43,">0")+COUNTIFS(F48:F53,"<>nicht relevant",L48:L53,">0")),"Bewertung nicht möglich") -> 0
A6: Kurze Beschreibung | E6: Team | F6: 0.6 | G6: 0.7 | I6: =F34 -> 0
E7: Einrichtung | F7: 0.6 | G7: 0.7 | I7: =F44 -> 0
E8: Markt | F8: 0.6 | G8: 0.7 | I8: =F54 -> 0
E9: Ausgründung | F9: 0.6 | G9: 0.7 | I9: =IFERROR(SUM(Bewertungsbogen!M:M)/SUM(Bewertungsbogen!L:L),0) -> 0
A10: Eine detaillierte Auswertung mit Handlungsempfehlungen und offenen Fragen/ToDos ist im Tabellenblatt "Auswertung" zu finden! | F10: Mindestwert, ab der die Dimension als Erfolgsfaktor gesehen werden kann. | G10: Mindestwert für eine aussagekräftige Bewertung.
A11: 3. Beantwortung der einzelnen Fragen per Dropdown-Feld. Nur relevante Felder sind auswählbar. Fragen, bei denen nicht alle Spalten beantwortet werden, gelten als nicht beantwortet und reduzieren die Wertung und Zuversicht. Sollen Fragen nicht in die Berechnung einbezogen werden, kann hierfür "nicht relevant" ausgewählt werden.
A12: HARDWARE
A13: ID | B13: Frage | C13: Nein (schlecht = 0) | D13: dazwischen (0,5) | E13: Ja (gut = 1) | F13: Bewertung der Frage | G13: Wie sicher ist die Antwort | H13: Kritische Frage | I13: Gewichtung Dimension | J13: Punkte Prozent | K13: Punkte Altes System | L13: Gewichtung Startup | M13: Punkte Startup | N13: Punkte Zuversicht | O13: Ausgabe Probleme | P13: Ausgabe offene Fragen | Q13: Beschreibung
A14: H01a | B14: =VLOOKUP($A14,Fragenkatalog!$A$1:$L$61,MATCH(B$13,Fragenkatalog!$1:$1,0),FALSE) -> Ist die Hardware eine neuartige Erfindung? | C14: =_xlfn.CONCAT("Nein: ",VLOOKUP($A14,Fragenkatalog!$A$1:$L$61,MATCH(C$13,Fragenkatalog!$1:$1,0),FALSE)) -> Nein: Die Hardware existiert bereits in anderweitiger Form. | D14: =VLOOKUP($A14,Fragenkatalog!$A$1:$L$61,MATCH(D$13,Fragenkatalog!$1:$1,0),FALSE) -> Die Hardware besitzt teilweise neue Funktionen. | E14: =_xlfn.CONCAT("Ja: ",VLOOKUP($A14,Fragenkatalog!$A$1:$L$61,MATCH(E$13,Fragenkatalog!$1:$1,0),FALSE)) -> Ja: Die Hardware oder Teile davon ist/sind eine neuartige Entwicklung. | H14: nein | I14: =IF(F14=LookupTabellen!$A$7,0,IFERROR(VLOOKUP(A14,Fragenkatalog!A:N,13,FALSE),"")) -> 1 | J14: =IF(OR(F14="",AND(G14="",F14<>LookupTabellen!$A$6,F14<>LookupTabellen!$A$7)),0,IFERROR(VLOOKUP(F14,LookupTabellen!$A$3:$B$7,2,FALSE)*VLOOKUP(A14,Fragenkatalog!A:N,13,FALSE),"")) -> 0 | K14: =IF(OR(F14="",AND(G14="",F14<>LookupTabellen!$A$6,F14<>LookupTabellen!$A$7)),0,IFERROR(VLOOKUP(F14,LookupTabellen!$A$3:$C$7,3,FALSE)*VLOOKUP(G14,LookupTabellen!$D$3:$F$5,3,FALSE)*VLOOKUP(A14,Fragenkatalog!A:N,13,FALSE),"")) -> 0 | L14: =IF(F14=LookupTabellen!$A$6,0,IFERROR(ABS(VLOOKUP(A14,Fragenkatalog!A:N,14,FALSE)),"")) -> 0.3 | M14: =IFERROR((IF(VLOOKUP(A14,Fragenkatalog!A:N,14,FALSE)<0,-4,0)+VLOOKUP(F14,LookupTabellen!$A$3:$B$7,2,FALSE))*VLOOKUP(A14,Fragenkatalog!A:N,14,FALSE),"") | N14: =IFERROR(VLOOKUP(G14,LookupTabellen!$D$3:$E$5,2,FALSE)*AND(H14<>"Antwort auswählen",F14<>LookupTabellen!$A$6,F14<>LookupTabellen!$A$7),0) -> 0 | O14: =IF(F14=LookupTabellen!$A$3,IF(VLOOKUP($A14,Fragenkatalog!$A$1:$L$61,MATCH($C$13,Fragenkatalog!$1:$1,0),FALSE)=0,"",CONCATENATE(VLOOKUP(H14,LookupTabellen!$H$2:$I$3,2,FALSE),VLOOKUP($A14,Fragenkatalog!$A$1:$L$61,MATCH($C$13,Fragenkatalog!$1:$1,0),FALSE))),"") | P14: =IF(O14="",IF(OR(F14=LookupTabellen!$A$6,F14="",G14=LookupTabellen!$D$3),IF(VLOOKUP($A14,Fragenkatalog!$A$1:$L$61,MATCH("Frage",Fragenkatalog!$1:$1,0),FALSE)=0,"",CONCATENATE(VLOOKUP(H14,LookupTabellen!$H$2:$I$3,2,FALSE),VLOOKUP($A14,Fragenkatalog!$A$1:$L$61,MATCH("Frage",Fragenkatalog!$1:$1,0),FALSE))),""),"") -> Ist die Hardware eine neuartige Erfindung? | Q14: =VLOOKUP($A14,Fragenkatalog!$A$1:$L$61,MATCH(Q$13,Fragenkatalog!$1:$1,0),FALSE) -> Hier wird abgefragt, wie neuartig und einzigartig eine Hardware ist: Existiert bereits vergleichbare Hardware oder ist sie eine neuartige Lösung für ein bestehendes Problem. Bei NEUHEIT geht es sowohl um Hardware aus der eigenen Einrichtung, als auch um Hardware, die von Dritten entwickelt wurde.)
A15: H01b | B15: =VLOOKUP($A15,Fragenkatalog!$A$1:$L$61,MATCH(B$13,Fragenkatalog!$1:$1,0),FALSE) -> Ist die Hardware in Verwendung? | C15: =_xlfn.CONCAT("Nein: ",VLOOKUP($A15,Fragenkatalog!$A$1:$L$61,MATCH(C$13,Fragenkatalog!$1:$1,0),FALSE)) -> Nein: Es existiert maximal ein Proof of Concept (bis TRL 3). | D15: =VLOOKUP($A15,Fragenkatalog!$A$1:$L$61,MATCH(D$13,Fragenkatalog!$1:$1,0),FALSE) -> Es existiert bereits ein Labor- oder Funktionsmus-ter/Prototyp (TRL 4-6). | E15: =_xlfn.CONCAT("Ja: ",VLOOKUP($A15,Fragenkatalog!$A$1:$L$61,MATCH(E$13,Fragenkatalog!$1:$1,0),FALSE)) -> Ja: Die Hardware ist bereits im realen Einsatz (ab TRL 7). | H15: nein | I15: =IF(F15=LookupTabellen!$A$7,0,IFERROR(VLOOKUP(A15,Fragenkatalog!A:N,13,FALSE),"")) -> 1 | J15: =IF(OR(F15="",AND(G15="",F15<>LookupTabellen!$A$6,F15<>LookupTabellen!$A$7)),0,IFERROR(VLOOKUP(F15,LookupTabellen!$A$3:$B$7,2,FALSE)*VLOOKUP(A15,Fragenkatalog!A:N,13,FALSE),"")) -> 0 | K15: =IF(OR(F15="",AND(G15="",F15<>LookupTabellen!$A$6,F15<>LookupTabellen!$A$7)),0,IFERROR(VLOOKUP(F15,LookupTabellen!$A$3:$C$7,3,FALSE)*VLOOKUP(G15,LookupTabellen!$D$3:$F$5,3,FALSE)*VLOOKUP(A15,Fragenkatalog!A:N,13,FALSE),"")) -> 0 | L15: =IF(F15=LookupTabellen!$A$6,0,IFERROR(ABS(VLOOKUP(A15,Fragenkatalog!A:N,14,FALSE)),"")) -> 0.75 | M15: =IFERROR((IF(VLOOKUP(A15,Fragenkatalog!A:N,14,FALSE)<0,-4,0)+VLOOKUP(F15,LookupTabellen!$A$3:$B$7,2,FALSE))*VLOOKUP(A15,Fragenkatalog!A:N,14,FALSE),"") | N15: =IFERROR(VLOOKUP(G15,LookupTabellen!$D$3:$E$5,2,FALSE)*AND(H15<>"Antwort auswählen",F15<>LookupTabellen!$A$6,F15<>LookupTabellen!$A$7),0) -> 0 | O15: =IF(F15=LookupTabellen!$A$3,IF(VLOOKUP($A15,Fragenkatalog!$A$1:$L$61,MATCH($C$13,Fragenkatalog!$1:$1,0),FALSE)=0,"",CONCATENATE(VLOOKUP(H15,LookupTabellen!$H$2:$I$3,2,FALSE),VLOOKUP($A15,Fragenkatalog!$A$1:$L$61,MATCH($C$13,Fragenkatalog!$1:$1,0),FALSE))),"") | P15: =IF(O15="",IF(OR(F15=LookupTabellen!$A$6,F15="",G15=LookupTabellen!$D$3),IF(VLOOKUP($A15,Fragenkatalog!$A$1:$L$61,MATCH("Frage",Fragenkatalog!$1:$1,0),FALSE)=0,"",CONCATENATE(VLOOKUP(H15,LookupTabellen!$H$2:$I$3,2,FALSE),VLOOKUP($A15,Fragenkatalog!$A$1:$L$61,MATCH("Frage",Fragenkatalog!$1:$1,0),FALSE))),""),"") -> Ist die Hardware in Verwendung? | Q15: =VLOOKUP($A15,Fragenkatalog!$A$1:$L$61,MATCH(Q$13,Fragenkatalog!$1:$1,0),FALSE) -> Die Einteilung orientiert sich am Technology Readiness-Level (TRL). Ist die Hardware bereits im Einsatz (TRL7), dann kann die Frage mit „Ja“ beantwortet werden. Handelt es sich dagegen um ein Labor- oder Funkti-onsmuster/Prototypen in relevanter Einsatzumgebung, (TRL 4-6) kann die mittlere Antwort gewählt werden. Besteht bisher nur ein Proof of Con-cept (bis TRL 3), dann ist die Frage zu verneinen.
A16: H01c | B16: =VLOOKUP($A16,Fragenkatalog!$A$1:$L$61,MATCH(B$13,Fragenkatalog!$1:$1,0),FALSE) -> Ist eine verwertbare Entwicklung der Hardware machbar? | C16: =_xlfn.CONCAT("Nein: ",VLOOKUP($A16,Fragenkatalog!$A$1:$L$61,MATCH(C$13,Fragenkatalog!$1:$1,0),FALSE)) -> Nein: Die Wahrscheinlichkeit für einen Abbruch der Entwicklung und damit Verwertung ist hoch. | D16: =VLOOKUP($A16,Fragenkatalog!$A$1:$L$61,MATCH(D$13,Fragenkatalog!$1:$1,0),FALSE) -> Es besteht die Möglichkeit, dass die Entwicklung abgebrochen wird. Das Risiko hierfür ist jedoch gering. | E16: =_xlfn.CONCAT("Ja: ",VLOOKUP($A16,Fragenkatalog!$A$1:$L$61,MATCH(E$13,Fragenkatalog!$1:$1,0),FALSE)) -> Ja: Ein Abschluss der Entwicklung und damit einer erfolgreichen Verwertung ist sehr wahrscheinlich. | H16: nein | I16: =IF(F16=LookupTabellen!$A$7,0,IFERROR(VLOOKUP(A16,Fragenkatalog!A:N,13,FALSE),"")) -> 1 | J16: =IF(OR(F16="",AND(G16="",F16<>LookupTabellen!$A$6,F16<>LookupTabellen!$A$7)),0,IFERROR(VLOOKUP(F16,LookupTabellen!$A$3:$B$7,2,FALSE)*VLOOKUP(A16,Fragenkatalog!A:N,13,FALSE),"")) -> 0 | K16: =IF(OR(F16="",AND(G16="",F16<>LookupTabellen!$A$6,F16<>LookupTabellen!$A$7)),0,IFERROR(VLOOKUP(F16,LookupTabellen!$A$3:$C$7,3,FALSE)*VLOOKUP(G16,LookupTabellen!$D$3:$F$5,3,FALSE)*VLOOKUP(A16,Fragenkatalog!A:N,13,FALSE),"")) -> 0 | L16: =IF(F16=LookupTabellen!$A$6,0,IFERROR(ABS(VLOOKUP(A16,Fragenkatalog!A:N,14,FALSE)),"")) -> 0 | M16: =IFERROR((IF(VLOOKUP(A16,Fragenkatalog!A:N,14,FALSE)<0,-4,0)+VLOOKUP(F16,LookupTabellen!$A$3:$B$7,2,FALSE))*VLOOKUP(A16,Fragenkatalog!A:N,14,FALSE),"") | N16: =IFERROR(VLOOKUP(G16,LookupTabellen!$D$3:$E$5,2,FALSE)*AND(H16<>"Antwort auswählen",F16<>LookupTabellen!$A$6,F16<>LookupTabellen!$A$7),0) -> 0 | O16: =IF(F16=LookupTabellen!$A$3,IF(VLOOKUP($A16,Fragenkatalog!$A$1:$L$61,MATCH($C$13,Fragenkatalog!$1:$1,0),FALSE)=0,"",CONCATENATE(VLOOKUP(H16,LookupTabellen!$H$2:$I$3,2,FALSE),VLOOKUP($A16,Fragenkatalog!$A$1:$L$61,MATCH($C$13,Fragenkatalog!$1:$1,0),FALSE))),"") | P16: =IF(O16="",IF(OR(F16=LookupTabellen!$A$6,F16="",G16=LookupTabellen!$D$3),IF(VLOOKUP($A16,Fragenkatalog!$A$1:$L$61,MATCH("Frage",Fragenkatalog!$1:$1,0),FALSE)=0,"",CONCATENATE(VLOOKUP(H16,LookupTabellen!$H$2:$I$3,2,FALSE),VLOOKUP($A16,Fragenkatalog!$A$1:$L$61,MATCH("Frage",Fragenkatalog!$1:$1,0),FALSE))),""),"") -> Ist eine verwertbare Entwicklung der Hardware machbar? | Q16: =VLOOKUP($A16,Fragenkatalog!$A$1:$L$61,MATCH(Q$13,Fragenkatalog!$1:$1,0),FALSE) -> Für die Verwertung der Hardware sollte diese soweit wie möglich fertiggestellt sein. Verschiedene Risiken können jedoch dafür sorgen, dass es zu einem Abbruch der Entwicklung und der Verwertung kommt. Schätzen sie ein, ob die Hardware zu einem fertigen Produkt entwickelt werden kann.
A17: H01d | B17: =VLOOKUP($A17,Fragenkatalog!$A$1:$L$61,MATCH(B$13,Fragenkatalog!$1:$1,0),FALSE) -> Ist die Hardware ausreichend dokumentiert? | C17: =_xlfn.CONCAT("Nein: ",VLOOKUP($A17,Fragenkatalog!$A$1:$L$61,MATCH(C$13,Fragenkatalog!$1:$1,0),FALSE)) -> Nein: Die Hardware ist vollständig undokumentiert. | D17: =VLOOKUP($A17,Fragenkatalog!$A$1:$L$61,MATCH(D$13,Fragenkatalog!$1:$1,0),FALSE) -> Die Dokumentation ist noch unzureichend. | E17: =_xlfn.CONCAT("Ja: ",VLOOKUP($A17,Fragenkatalog!$A$1:$L$61,MATCH(E$13,Fragenkatalog!$1:$1,0),FALSE)) -> Ja: Die Dokumentation ist vollständig. | H17: nein | I17: =IF(F17=LookupTabellen!$A$7,0,IFERROR(VLOOKUP(A17,Fragenkatalog!A:N,13,FALSE),"")) -> 1 | J17: =IF(OR(F17="",AND(G17="",F17<>LookupTabellen!$A$6,F17<>LookupTabellen!$A$7)),0,IFERROR(VLOOKUP(F17,LookupTabellen!$A$3:$B$7,2,FALSE)*VLOOKUP(A17,Fragenkatalog!A:N,13,FALSE),"")) -> 0 | K17: =IF(OR(F17="",AND(G17="",F17<>LookupTabellen!$A$6,F17<>LookupTabellen!$A$7)),0,IFERROR(VLOOKUP(F17,LookupTabellen!$A$3:$C$7,3,FALSE)*VLOOKUP(G17,LookupTabellen!$D$3:$F$5,3,FALSE)*VLOOKUP(A17,Fragenkatalog!A:N,13,FALSE),"")) -> 0 | L17: =IF(F17=LookupTabellen!$A$6,0,IFERROR(ABS(VLOOKUP(A17,Fragenkatalog!A:N,14,FALSE)),"")) -> 0.8 | M17: =IFERROR((IF(VLOOKUP(A17,Fragenkatalog!A:N,14,FALSE)<0,-4,0)+VLOOKUP(F17,LookupTabellen!$A$3:$B$7,2,FALSE))*VLOOKUP(A17,Fragenkatalog!A:N,14,FALSE),"") | N17: =IFERROR(VLOOKUP(G17,LookupTabellen!$D$3:$E$5,2,FALSE)*AND(H17<>"Antwort auswählen",F17<>LookupTabellen!$A$6,F17<>LookupTabellen!$A$7),0) -> 0 | O17: =IF(F17=LookupTabellen!$A$3,IF(VLOOKUP($A17,Fragenkatalog!$A$1:$L$61,MATCH($C$13,Fragenkatalog!$1:$1,0),FALSE)=0,"",CONCATENATE(VLOOKUP(H17,LookupTabellen!$H$2:$I$3,2,FALSE),VLOOKUP($A17,Fragenkatalog!$A$1:$L$61,MATCH($C$13,Fragenkatalog!$1:$1,0),FALSE))),"") | P17: =IF(O17="",IF(OR(F17=LookupTabellen!$A$6,F17="",G17=LookupTabellen!$D$3),IF(VLOOKUP($A17,Fragenkatalog!$A$1:$L$61,MATCH("Frage",Fragenkatalog!$1:$1,0),FALSE)=0,"",CONCATENATE(VLOOKUP(H17,LookupTabellen!$H$2:$I$3,2,FALSE),VLOOKUP($A17,Fragenkatalog!$A$1:$L$61,MATCH("Frage",Fragenkatalog!$1:$1,0),FALSE))),""),"") -> Ist die Hardware ausreichend dokumentiert? | Q17: =VLOOKUP($A17,Fragenkatalog!$A$1:$L$61,MATCH(Q$13,Fragenkatalog!$1:$1,0),FALSE) -> Eine ordentliche Dokumentation der Teileliste, des Aufbaus usw. ist essenziell dafür, dass man die Hardware auch in Zukunft noch warten und weiterentwickeln kann.
A18: H02a | B18: =VLOOKUP($A18,Fragenkatalog!$A$1:$L$61,MATCH(B$13,Fragenkatalog!$1:$1,0),FALSE) -> Können alle externen Komponenten für die Verwendung der Hardware eingesetzt werden? | C18: =_xlfn.CONCAT("Nein: ",VLOOKUP($A18,Fragenkatalog!$A$1:$L$61,MATCH(C$13,Fragenkatalog!$1:$1,0),FALSE)) -> Nein: Es gibt Probleme bei der Verwendung externer Komponenten. | D18: =VLOOKUP($A18,Fragenkatalog!$A$1:$L$61,MATCH(D$13,Fragenkatalog!$1:$1,0),FALSE) -> Bestehende Probleme können geklärt werden. | E18: =_xlfn.CONCAT("Ja: ",VLOOKUP($A18,Fragenkatalog!$A$1:$L$61,MATCH(E$13,Fragenkatalog!$1:$1,0),FALSE)) -> Ja: Die Verwendung externer Komponenten ist geklärt. | H18: nein | I18: =IF(F18=LookupTabellen!$A$7,0,IFERROR(VLOOKUP(A18,Fragenkatalog!A:N,13,FALSE),"")) -> 1 | J18: =IF(OR(F18="",AND(G18="",F18<>LookupTabellen!$A$6,F18<>LookupTabellen!$A$7)),0,IFERROR(VLOOKUP(F18,LookupTabellen!$A$3:$B$7,2,FALSE)*VLOOKUP(A18,Fragenkatalog!A:N,13,FALSE),"")) -> 0 | K18: =IF(OR(F18="",AND(G18="",F18<>LookupTabellen!$A$6,F18<>LookupTabellen!$A$7)),0,IFERROR(VLOOKUP(F18,LookupTabellen!$A$3:$C$7,3,FALSE)*VLOOKUP(G18,LookupTabellen!$D$3:$F$5,3,FALSE)*VLOOKUP(A18,Fragenkatalog!A:N,13,FALSE),"")) -> 0 | L18: =IF(F18=LookupTabellen!$A$6,0,IFERROR(ABS(VLOOKUP(A18,Fragenkatalog!A:N,14,FALSE)),"")) -> 0.5 | M18: =IFERROR((IF(VLOOKUP(A18,Fragenkatalog!A:N,14,FALSE)<0,-4,0)+VLOOKUP(F18,LookupTabellen!$A$3:$B$7,2,FALSE))*VLOOKUP(A18,Fragenkatalog!A:N,14,FALSE),"") | N18: =IFERROR(VLOOKUP(G18,LookupTabellen!$D$3:$E$5,2,FALSE)*AND(H18<>"Antwort auswählen",F18<>LookupTabellen!$A$6,F18<>LookupTabellen!$A$7),0) -> 0 | O18: =IF(F18=LookupTabellen!$A$3,IF(VLOOKUP($A18,Fragenkatalog!$A$1:$L$61,MATCH($C$13,Fragenkatalog!$1:$1,0),FALSE)=0,"",CONCATENATE(VLOOKUP(H18,LookupTabellen!$H$2:$I$3,2,FALSE),VLOOKUP($A18,Fragenkatalog!$A$1:$L$61,MATCH($C$13,Fragenkatalog!$1:$1,0),FALSE))),"") | P18: =IF(O18="",IF(OR(F18=LookupTabellen!$A$6,F18="",G18=LookupTabellen!$D$3),IF(VLOOKUP($A18,Fragenkatalog!$A$1:$L$61,MATCH("Frage",Fragenkatalog!$1:$1,0),FALSE)=0,"",CONCATENATE(VLOOKUP(H18,LookupTabellen!$H$2:$I$3,2,FALSE),VLOOKUP($A18,Fragenkatalog!$A$1:$L$61,MATCH("Frage",Fragenkatalog!$1:$1,0),FALSE))),""),"") -> Können alle externen Komponenten für die Verwendung der Hardware eingesetzt werden? | Q18: =VLOOKUP($A18,Fragenkatalog!$A$1:$L$61,MATCH(Q$13,Fragenkatalog!$1:$1,0),FALSE) -> Hier wird abgefragt, ob alle externen Komponenten schon beschafft und die Rechte (z.B. Nutzungsrechte) und Abhängigkeiten (z.B. Copyleft) für die weitere Verwendung geklärt sind.
A19: H02e | B19: =VLOOKUP($A19,Fragenkatalog!$A$1:$L$61,MATCH(B$13,Fragenkatalog!$1:$1,0),FALSE) -> Besteht die Hardware aus verschiedenen Komponenten, die jeweils separat verwertet werden können? | C19: =_xlfn.CONCAT("Nein: ",VLOOKUP($A19,Fragenkatalog!$A$1:$L$61,MATCH(C$13,Fragenkatalog!$1:$1,0),FALSE)) -> Nein: Die Hardware besitzt keine einzeln verwertbaren Komponenten. | D19: =VLOOKUP($A19,Fragenkatalog!$A$1:$L$61,MATCH(D$13,Fragenkatalog!$1:$1,0),FALSE) -> Ob einzelne Komponenten verwertbar sind, ist derzeit nicht sicher abschätzbar. | E19: =_xlfn.CONCAT("Ja: ",VLOOKUP($A19,Fragenkatalog!$A$1:$L$61,MATCH(E$13,Fragenkatalog!$1:$1,0),FALSE)) -> Ja: Einzelne Komponenten können separat verwertet werden. | H19: nein | I19: =IF(F19=LookupTabellen!$A$7,0,IFERROR(VLOOKUP(A19,Fragenkatalog!A:N,13,FALSE),"")) -> 1 | J19: =IF(OR(F19="",AND(G19="",F19<>LookupTabellen!$A$6,F19<>LookupTabellen!$A$7)),0,IFERROR(VLOOKUP(F19,LookupTabellen!$A$3:$B$7,2,FALSE)*VLOOKUP(A19,Fragenkatalog!A:N,13,FALSE),"")) -> 0 | K19: =IF(OR(F19="",AND(G19="",F19<>LookupTabellen!$A$6,F19<>LookupTabellen!$A$7)),0,IFERROR(VLOOKUP(F19,LookupTabellen!$A$3:$C$7,3,FALSE)*VLOOKUP(G19,LookupTabellen!$D$3:$F$5,3,FALSE)*VLOOKUP(A19,Fragenkatalog!A:N,13,FALSE),"")) -> 0 | L19: =IF(F19=LookupTabellen!$A$6,0,IFERROR(ABS(VLOOKUP(A19,Fragenkatalog!A:N,14,FALSE)),"")) -> 0.25 | M19: =IFERROR((IF(VLOOKUP(A19,Fragenkatalog!A:N,14,FALSE)<0,-4,0)+VLOOKUP(F19,LookupTabellen!$A$3:$B$7,2,FALSE))*VLOOKUP(A19,Fragenkatalog!A:N,14,FALSE),"") | N19: =IFERROR(VLOOKUP(G19,LookupTabellen!$D$3:$E$5,2,FALSE)*AND(H19<>"Antwort auswählen",F19<>LookupTabellen!$A$6,F19<>LookupTabellen!$A$7),0) -> 0 | O19: =IF(F19=LookupTabellen!$A$3,IF(VLOOKUP($A19,Fragenkatalog!$A$1:$L$61,MATCH($C$13,Fragenkatalog!$1:$1,0),FALSE)=0,"",CONCATENATE(VLOOKUP(H19,LookupTabellen!$H$2:$I$3,2,FALSE),VLOOKUP($A19,Fragenkatalog!$A$1:$L$61,MATCH($C$13,Fragenkatalog!$1:$1,0),FALSE))),"") | P19: =IF(O19="",IF(OR(F19=LookupTabellen!$A$6,F19="",G19=LookupTabellen!$D$3),IF(VLOOKUP($A19,Fragenkatalog!$A$1:$L$61,MATCH("Frage",Fragenkatalog!$1:$1,0),FALSE)=0,"",CONCATENATE(VLOOKUP(H19,LookupTabellen!$H$2:$I$3,2,FALSE),VLOOKUP($A19,Fragenkatalog!$A$1:$L$61,MATCH("Frage",Fragenkatalog!$1:$1,0),FALSE))),""),"") -> Besteht die Hardware aus verschiedenen Komponenten, die jeweils separat verwertet werden können? | Q19: =VLOOKUP($A19,Fragenkatalog!$A$1:$L$61,MATCH(Q$13,Fragenkatalog!$1:$1,0),FALSE) -> Hier wird abgefragt, ob eine Möglichkeit der Verwertung von Einzelteilen besteht, für den Fall, dass nicht das gesamte System verwertet werden kann. Damit wäre eine Teilverwertung möglich.
A20: H02f | B20: =VLOOKUP($A20,Fragenkatalog!$A$1:$L$61,MATCH(B$13,Fragenkatalog!$1:$1,0),FALSE) -> Kann die Hardware ohne Einsatz von Software betrieben werden? | C20: =_xlfn.CONCAT("Nein: ",VLOOKUP($A20,Fragenkatalog!$A$1:$L$61,MATCH(C$13,Fragenkatalog!$1:$1,0),FALSE)) -> Nein: Die Hardware benötigt für die Nutzung den Einsatz von Software. | D20: =VLOOKUP($A20,Fragenkatalog!$A$1:$L$61,MATCH(D$13,Fragenkatalog!$1:$1,0),FALSE) -> Für bestimmte Komponenten/Aufgaben ist eine Software nötig. | E20: =_xlfn.CONCAT("Ja: ",VLOOKUP($A20,Fragenkatalog!$A$1:$L$61,MATCH(E$13,Fragenkatalog!$1:$1,0),FALSE)) -> Ja: Die Hardware benötigt keine zusätzliche Software. | H20: nein | I20: =IF(F20=LookupTabellen!$A$7,0,IFERROR(VLOOKUP(A20,Fragenkatalog!A:N,13,FALSE),"")) -> 1 | J20: =IF(OR(F20="",AND(G20="",F20<>LookupTabellen!$A$6,F20<>LookupTabellen!$A$7)),0,IFERROR(VLOOKUP(F20,LookupTabellen!$A$3:$B$7,2,FALSE)*VLOOKUP(A20,Fragenkatalog!A:N,13,FALSE),"")) -> 0 | K20: =IF(OR(F20="",AND(G20="",F20<>LookupTabellen!$A$6,F20<>LookupTabellen!$A$7)),0,IFERROR(VLOOKUP(F20,LookupTabellen!$A$3:$C$7,3,FALSE)*VLOOKUP(G20,LookupTabellen!$D$3:$F$5,3,FALSE)*VLOOKUP(A20,Fragenkatalog!A:N,13,FALSE),"")) -> 0 | L20: =IF(F20=LookupTabellen!$A$6,0,IFERROR(ABS(VLOOKUP(A20,Fragenkatalog!A:N,14,FALSE)),"")) -> 0.25 | M20: =IFERROR((IF(VLOOKUP(A20,Fragenkatalog!A:N,14,FALSE)<0,-4,0)+VLOOKUP(F20,LookupTabellen!$A$3:$B$7,2,FALSE))*VLOOKUP(A20,Fragenkatalog!A:N,14,FALSE),"") | N20: =IFERROR(VLOOKUP(G20,LookupTabellen!$D$3:$E$5,2,FALSE)*AND(H20<>"Antwort auswählen",F20<>LookupTabellen!$A$6,F20<>LookupTabellen!$A$7),0) -> 0 | O20: =IF(F20=LookupTabellen!$A$3,IF(VLOOKUP($A20,Fragenkatalog!$A$1:$L$61,MATCH($C$13,Fragenkatalog!$1:$1,0),FALSE)=0,"",CONCATENATE(VLOOKUP(H20,LookupTabellen!$H$2:$I$3,2,FALSE),VLOOKUP($A20,Fragenkatalog!$A$1:$L$61,MATCH($C$13,Fragenkatalog!$1:$1,0),FALSE))),"") | P20: =IF(O20="",IF(OR(F20=LookupTabellen!$A$6,F20="",G20=LookupTabellen!$D$3),IF(VLOOKUP($A20,Fragenkatalog!$A$1:$L$61,MATCH("Frage",Fragenkatalog!$1:$1,0),FALSE)=0,"",CONCATENATE(VLOOKUP(H20,LookupTabellen!$H$2:$I$3,2,FALSE),VLOOKUP($A20,Fragenkatalog!$A$1:$L$61,MATCH("Frage",Fragenkatalog!$1:$1,0),FALSE))),""),"") -> Kann die Hardware ohne Einsatz von Software betrieben werden? | Q20: =VLOOKUP($A20,Fragenkatalog!$A$1:$L$61,MATCH(Q$13,Fragenkatalog!$1:$1,0),FALSE) -> Der Einsatz von proprietärer Software oder von Software mit starker Copyleft-Lizenz (z.B. GPL 3.0) kann zu Einschränkungen der geplanten Verwertung führen.
A21: H03c | B21: =VLOOKUP($A21,Fragenkatalog!$A$1:$L$61,MATCH(B$13,Fragenkatalog!$1:$1,0),FALSE) -> Kann die Hardware ohne spezielle Zulassungen verwertet werden? | C21: =_xlfn.CONCAT("Nein: ",VLOOKUP($A21,Fragenkatalog!$A$1:$L$61,MATCH(C$13,Fragenkatalog!$1:$1,0),FALSE)) -> Nein: Die Hardware erfordert spezielle Zulassungen. | D21: =VLOOKUP($A21,Fragenkatalog!$A$1:$L$61,MATCH(D$13,Fragenkatalog!$1:$1,0),FALSE) -> Die Hardware benötigt keine Zulassungen, muss jedoch bestimmte Standards erfüllen. | E21: =_xlfn.CONCAT("Ja: ",VLOOKUP($A21,Fragenkatalog!$A$1:$L$61,MATCH(E$13,Fragenkatalog!$1:$1,0),FALSE)) -> Ja: Keine Zulassungen oder Einhaltung von Standards erforderlich. | H21: nein | I21: =IF(F21=LookupTabellen!$A$7,0,IFERROR(VLOOKUP(A21,Fragenkatalog!A:N,13,FALSE),"")) -> 1 | J21: =IF(OR(F21="",AND(G21="",F21<>LookupTabellen!$A$6,F21<>LookupTabellen!$A$7)),0,IFERROR(VLOOKUP(F21,LookupTabellen!$A$3:$B$7,2,FALSE)*VLOOKUP(A21,Fragenkatalog!A:N,13,FALSE),"")) -> 0 | K21: =IF(OR(F21="",AND(G21="",F21<>LookupTabellen!$A$6,F21<>LookupTabellen!$A$7)),0,IFERROR(VLOOKUP(F21,LookupTabellen!$A$3:$C$7,3,FALSE)*VLOOKUP(G21,LookupTabellen!$D$3:$F$5,3,FALSE)*VLOOKUP(A21,Fragenkatalog!A:N,13,FALSE),"")) -> 0 | L21: =IF(F21=LookupTabellen!$A$6,0,IFERROR(ABS(VLOOKUP(A21,Fragenkatalog!A:N,14,FALSE)),"")) -> 0 | M21: =IFERROR((IF(VLOOKUP(A21,Fragenkatalog!A:N,14,FALSE)<0,-4,0)+VLOOKUP(F21,LookupTabellen!$A$3:$B$7,2,FALSE))*VLOOKUP(A21,Fragenkatalog!A:N,14,FALSE),"") | N21: =IFERROR(VLOOKUP(G21,LookupTabellen!$D$3:$E$5,2,FALSE)*AND(H21<>"Antwort auswählen",F21<>LookupTabellen!$A$6,F21<>LookupTabellen!$A$7),0) -> 0 | O21: =IF(F21=LookupTabellen!$A$3,IF(VLOOKUP($A21,Fragenkatalog!$A$1:$L$61,MATCH($C$13,Fragenkatalog!$1:$1,0),FALSE)=0,"",CONCATENATE(VLOOKUP(H21,LookupTabellen!$H$2:$I$3,2,FALSE),VLOOKUP($A21,Fragenkatalog!$A$1:$L$61,MATCH($C$13,Fragenkatalog!$1:$1,0),FALSE))),"") | P21: =IF(O21="",IF(OR(F21=LookupTabellen!$A$6,F21="",G21=LookupTabellen!$D$3),IF(VLOOKUP($A21,Fragenkatalog!$A$1:$L$61,MATCH("Frage",Fragenkatalog!$1:$1,0),FALSE)=0,"",CONCATENATE(VLOOKUP(H21,LookupTabellen!$H$2:$I$3,2,FALSE),VLOOKUP($A21,Fragenkatalog!$A$1:$L$61,MATCH("Frage",Fragenkatalog!$1:$1,0),FALSE))),""),"") -> Kann die Hardware ohne spezielle Zulassungen verwertet werden? | Q21: =VLOOKUP($A21,Fragenkatalog!$A$1:$L$61,MATCH(Q$13,Fragenkatalog!$1:$1,0),FALSE) -> Für die Verwertung der Hardware sind möglicherweise bestimmte Zulassungen, Standards oder Anforderungen erforderlich. Dies können bspw. die Zulassung als Medizinprodukt (MDR), bestimmte Datenschutzverordnungen oder Industriestandards sein.
A22: H03d | B22: =VLOOKUP($A22,Fragenkatalog!$A$1:$L$61,MATCH(B$13,Fragenkatalog!$1:$1,0),FALSE) -> Lässt sich die Hardware unbedenklich für Umwelt, Mensch und/oder Gesellschaft verwenden? | C22: =_xlfn.CONCAT("Nein: ",VLOOKUP($A22,Fragenkatalog!$A$1:$L$61,MATCH(C$13,Fragenkatalog!$1:$1,0),FALSE)) -> Nein: Die Hardware ist schädlich. | D22: =VLOOKUP($A22,Fragenkatalog!$A$1:$L$61,MATCH(D$13,Fragenkatalog!$1:$1,0),FALSE) -> Die Hardware lässt sich zu schädlichen Zwecken missbrauchen. | E22: =_xlfn.CONCAT("Ja: ",VLOOKUP($A22,Fragenkatalog!$A$1:$L$61,MATCH(E$13,Fragenkatalog!$1:$1,0),FALSE)) -> Ja: Die Hardware ist unbedenklich. | H22: nein | I22: =IF(F22=LookupTabellen!$A$7,0,IFERROR(VLOOKUP(A22,Fragenkatalog!A:N,13,FALSE),"")) -> 1 | J22: =IF(OR(F22="",AND(G22="",F22<>LookupTabellen!$A$6,F22<>LookupTabellen!$A$7)),0,IFERROR(VLOOKUP(F22,LookupTabellen!$A$3:$B$7,2,FALSE)*VLOOKUP(A22,Fragenkatalog!A:N,13,FALSE),"")) -> 0 | K22: =IF(OR(F22="",AND(G22="",F22<>LookupTabellen!$A$6,F22<>LookupTabellen!$A$7)),0,IFERROR(VLOOKUP(F22,LookupTabellen!$A$3:$C$7,3,FALSE)*VLOOKUP(G22,LookupTabellen!$D$3:$F$5,3,FALSE)*VLOOKUP(A22,Fragenkatalog!A:N,13,FALSE),"")) -> 0 | L22: =IF(F22=LookupTabellen!$A$6,0,IFERROR(ABS(VLOOKUP(A22,Fragenkatalog!A:N,14,FALSE)),"")) -> 0.4 | M22: =IFERROR((IF(VLOOKUP(A22,Fragenkatalog!A:N,14,FALSE)<0,-4,0)+VLOOKUP(F22,LookupTabellen!$A$3:$B$7,2,FALSE))*VLOOKUP(A22,Fragenkatalog!A:N,14,FALSE),"") | N22: =IFERROR(VLOOKUP(G22,LookupTabellen!$D$3:$E$5,2,FALSE)*AND(H22<>"Antwort auswählen",F22<>LookupTabellen!$A$6,F22<>LookupTabellen!$A$7),0) -> 0 | O22: =IF(F22=LookupTabellen!$A$3,IF(VLOOKUP($A22,Fragenkatalog!$A$1:$L$61,MATCH($C$13,Fragenkatalog!$1:$1,0),FALSE)=0,"",CONCATENATE(VLOOKUP(H22,LookupTabellen!$H$2:$I$3,2,FALSE),VLOOKUP($A22,Fragenkatalog!$A$1:$L$61,MATCH($C$13,Fragenkatalog!$1:$1,0),FALSE))),"") | P22: =IF(O22="",IF(OR(F22=LookupTabellen!$A$6,F22="",G22=LookupTabellen!$D$3),IF(VLOOKUP($A22,Fragenkatalog!$A$1:$L$61,MATCH("Frage",Fragenkatalog!$1:$1,0),FALSE)=0,"",CONCATENATE(VLOOKUP(H22,LookupTabellen!$H$2:$I$3,2,FALSE),VLOOKUP($A22,Fragenkatalog!$A$1:$L$61,MATCH("Frage",Fragenkatalog!$1:$1,0),FALSE))),""),"") -> Lässt sich die Hardware unbedenklich für Umwelt, Mensch und/oder Gesellschaft verwenden? | Q22: =VLOOKUP($A22,Fragenkatalog!$A$1:$L$61,MATCH(Q$13,Fragenkatalog!$1:$1,0),FALSE) -> Führt die Hardware zu schädlichen Auswirkungen auf Mensch, Gesellschaft oder Umwelt, dann sollte von einer Veröffentlichung abgesehen werden. Schädliche Auswirkungen können sein: Nutzung als Waffensysteme, Aufnahme von Satellitenbildern, Sammlung und Auswertung personenbezogener Daten usw.
E23: =IFERROR(SUM(K14:K22)/SUM(I14:I22),0) -> 0 | F23: =IFERROR(SUM(J14:J22)/SUM(I14:I22),0) -> 0 | G23: =IFERROR(SUM(N14:N22)/(COUNTIF(F14:F22,"<>nicht relevant")),"Bewertung nicht möglich") -> 0
E24: Wertung (Punkte) | F24: Wertung (Prozent) | G24: Zuversicht
A25: TEAM | T25: =IF(F25=LookupTabellen!$A$3,IF(VLOOKUP($A25,Fragenkatalog!$A$1:$L$61,MATCH("Empfehlungen",Fragenkatalog!$1:$1,0),FALSE)=0,"",VLOOKUP($A25,Fragenkatalog!$A$1:$L$61,MATCH("Empfehlungen",Fragenkatalog!$1:$1,0),FALSE)),"") | U25: =IF(G25=LookupTabellen!$D$3,IF(VLOOKUP($A25,Fragenkatalog!$A$1:$L$61,MATCH("Frage",Fragenkatalog!$1:$1,0),FALSE)=0,"",VLOOKUP($A25,Fragenkatalog!$A$1:$L$61,MATCH("Frage",Fragenkatalog!$1:$1,0),FALSE)),"")
A26: ID | B26: Frage | C26: Nein (schlecht = 0) | D26: dazwischen (0,5) | E26: Ja (gut = 1) | F26: Antwort | G26: Zuversicht der Bewertung | H26: Gewichtete Wertung | I26: Gewichtung Dimension | J26: Punkte Prozent | K26: Punkte Altes System | L26: Gewichtung Spinout | M26: Punkte Spinout | N26: Punkte Zuversicht | O26: Ausgabe Probleme | P26: Ausgabe offene Fragen | Q26: Beschreibung
A27: T01a | B27: =VLOOKUP($A27,Fragenkatalog!$A$1:$L$61,MATCH(B$26,Fragenkatalog!$1:$1,0),FALSE) -> Ist das Entwicklerteam bereit, die Verwertung der Hardware zu unterstützen? | C27: =_xlfn.CONCAT("Nein: ",VLOOKUP($A27,Fragenkatalog!$A$1:$L$61,MATCH(C$13,Fragenkatalog!$1:$1,0),FALSE)) -> Nein: Das Entwicklerteam will die Verwertung nicht unterstützen. | D27: =VLOOKUP($A27,Fragenkatalog!$A$1:$L$61,MATCH(D$13,Fragenkatalog!$1:$1,0),FALSE) -> Das Entwicklerteam möchte die Hardware noch fertigstellen, aber nicht verwerten. | E27: =_xlfn.CONCAT("Ja: ",VLOOKUP($A27,Fragenkatalog!$A$1:$L$61,MATCH(E$13,Fragenkatalog!$1:$1,0),FALSE)) -> Ja: Das Entwicklerteam möchte bei der Verwertung mitarbeiten. | H27: nein | I27: =IF(F27=LookupTabellen!$A$7,0,IFERROR(VLOOKUP(A27,Fragenkatalog!A:N,13,FALSE),"")) -> 1 | J27: =IF(OR(F27="",AND(G27="",F27<>LookupTabellen!$A$6,F27<>LookupTabellen!$A$7)),0,IFERROR(VLOOKUP(F27,LookupTabellen!$A$3:$B$7,2,FALSE)*VLOOKUP(A27,Fragenkatalog!A:N,13,FALSE),"")) -> 0 | K27: =IF(OR(F27="",AND(G27="",F27<>LookupTabellen!$A$6,F27<>LookupTabellen!$A$7)),0,IFERROR(VLOOKUP(F27,LookupTabellen!$A$3:$C$7,3,FALSE)*VLOOKUP(G27,LookupTabellen!$D$3:$F$5,3,FALSE)*VLOOKUP(A27,Fragenkatalog!A:N,13,FALSE),"")) -> 0 | L27: =IF(F27=LookupTabellen!$A$6,0,IFERROR(ABS(VLOOKUP(A27,Fragenkatalog!A:N,14,FALSE)),"")) -> 0.8 | M27: =IFERROR((IF(VLOOKUP(A27,Fragenkatalog!A:N,14,FALSE)<0,-4,0)+VLOOKUP(F27,LookupTabellen!$A$3:$B$7,2,FALSE))*VLOOKUP(A27,Fragenkatalog!A:N,14,FALSE),"") | N27: =IFERROR(VLOOKUP(G27,LookupTabellen!$D$3:$E$5,2,FALSE)*AND(H27<>"Antwort auswählen",F27<>LookupTabellen!$A$6,F27<>LookupTabellen!$A$7),0) -> 0 | O27: =IF(F27=LookupTabellen!$A$3,IF(VLOOKUP($A27,Fragenkatalog!$A$1:$L$61,MATCH($C$13,Fragenkatalog!$1:$1,0),FALSE)=0,"",CONCATENATE(VLOOKUP(H27,LookupTabellen!$H$2:$I$3,2,FALSE),VLOOKUP($A27,Fragenkatalog!$A$1:$L$61,MATCH($C$13,Fragenkatalog!$1:$1,0),FALSE))),"") | P27: =IF(O27="",IF(OR(F27=LookupTabellen!$A$6,F27="",G27=LookupTabellen!$D$3),IF(VLOOKUP($A27,Fragenkatalog!$A$1:$L$61,MATCH("Frage",Fragenkatalog!$1:$1,0),FALSE)=0,"",CONCATENATE(VLOOKUP(H27,LookupTabellen!$H$2:$I$3,2,FALSE),VLOOKUP($A27,Fragenkatalog!$A$1:$L$61,MATCH("Frage",Fragenkatalog!$1:$1,0),FALSE))),""),"") -> Ist das Entwicklerteam bereit, die Verwertung der Hardware zu unterstützen? | Q27: =VLOOKUP($A27,Fragenkatalog!$A$1:$L$61,MATCH(Q$13,Fragenkatalog!$1:$1,0),FALSE) -> Inwieweit sind die Entwickler: innen bereit bei der Verwertung mitzuarbeiten? Sei es in Form einer Ausgründung oder durch Unterstützung bei Aufgaben wie Wartung, Support, Beratung usw.?
A28: T01b | B28: =VLOOKUP($A28,Fragenkatalog!$A$1:$L$61,MATCH(B$26,Fragenkatalog!$1:$1,0),FALSE) -> Ist das Entwicklerteam kompromissbereit und zeigt es eine realistische Erwartung bzgl. der angestrebten Verwertung? | C28: =_xlfn.CONCAT("Nein: ",VLOOKUP($A28,Fragenkatalog!$A$1:$L$61,MATCH(C$13,Fragenkatalog!$1:$1,0),FALSE)) -> Nein: Die Entwickler zeigen wenig Kompromissbereitschaft. | D28: =VLOOKUP($A28,Fragenkatalog!$A$1:$L$61,MATCH(D$26,Fragenkatalog!$1:$1,0),FALSE) -> Das Entwicklerteam hat gegensätzliche und unrealistische Erwartungen. | E28: =_xlfn.CONCAT("Ja: ",VLOOKUP($A28,Fragenkatalog!$A$1:$L$61,MATCH(E$13,Fragenkatalog!$1:$1,0),FALSE)) -> Ja: Das Entwicklerteam hat realistische Erwartungen hinsichtlich der Verwertung. | H28: nein | I28: =IF(F28=LookupTabellen!$A$7,0,IFERROR(VLOOKUP(A28,Fragenkatalog!A:N,13,FALSE),"")) -> 1 | J28: =IF(OR(F28="",AND(G28="",F28<>LookupTabellen!$A$6,F28<>LookupTabellen!$A$7)),0,IFERROR(VLOOKUP(F28,LookupTabellen!$A$3:$B$7,2,FALSE)*VLOOKUP(A28,Fragenkatalog!A:N,13,FALSE),"")) -> 0 | K28: =IF(OR(F28="",AND(G28="",F28<>LookupTabellen!$A$6,F28<>LookupTabellen!$A$7)),0,IFERROR(VLOOKUP(F28,LookupTabellen!$A$3:$C$7,3,FALSE)*VLOOKUP(G28,LookupTabellen!$D$3:$F$5,3,FALSE)*VLOOKUP(A28,Fragenkatalog!A:N,13,FALSE),"")) -> 0 | L28: =IF(F28=LookupTabellen!$A$6,0,IFERROR(ABS(VLOOKUP(A28,Fragenkatalog!A:N,14,FALSE)),"")) -> 1 | M28: =IFERROR((IF(VLOOKUP(A28,Fragenkatalog!A:N,14,FALSE)<0,-4,0)+VLOOKUP(F28,LookupTabellen!$A$3:$B$7,2,FALSE))*VLOOKUP(A28,Fragenkatalog!A:N,14,FALSE),"") | N28: =IFERROR(VLOOKUP(G28,LookupTabellen!$D$3:$E$5,2,FALSE)*AND(H28<>"Antwort auswählen",F28<>LookupTabellen!$A$6,F28<>LookupTabellen!$A$7),0) -> 0 | O28: =IF(F28=LookupTabellen!$A$3,IF(VLOOKUP($A28,Fragenkatalog!$A$1:$L$61,MATCH($C$13,Fragenkatalog!$1:$1,0),FALSE)=0,"",CONCATENATE(VLOOKUP(H28,LookupTabellen!$H$2:$I$3,2,FALSE),VLOOKUP($A28,Fragenkatalog!$A$1:$L$61,MATCH($C$13,Fragenkatalog!$1:$1,0),FALSE))),"") | P28: =IF(O28="",IF(OR(F28=LookupTabellen!$A$6,F28="",G28=LookupTabellen!$D$3),IF(VLOOKUP($A28,Fragenkatalog!$A$1:$L$61,MATCH("Frage",Fragenkatalog!$1:$1,0),FALSE)=0,"",CONCATENATE(VLOOKUP(H28,LookupTabellen!$H$2:$I$3,2,FALSE),VLOOKUP($A28,Fragenkatalog!$A$1:$L$61,MATCH("Frage",Fragenkatalog!$1:$1,0),FALSE))),""),"") -> Ist das Entwicklerteam kompromissbereit und zeigt es eine realistische Erwartung bzgl. der angestrebten Verwertung? | Q28: =VLOOKUP($A28,Fragenkatalog!$A$1:$L$61,MATCH(Q$26,Fragenkatalog!$1:$1,0),FALSE) -> Die Erwartungen von Entwickler: innen bzgl. der Verwertung können erheblich variieren. Sie können auf eine Open-Source-Verwertung bestehen oder großen Gewinn anstreben. Bei der Bewertung muss abgeschätzt werden, ob die Erwartungen im Entwicklerteam realistisch sind, zu Problemen führen und Kompromissbereitschaft besteht.
A29: T02a | B29: =VLOOKUP($A29,Fragenkatalog!$A$1:$L$61,MATCH(B$26,Fragenkatalog!$1:$1,0),FALSE) -> Sind alle Fragen der Autorenschaft geklärt? | C29: =_xlfn.CONCAT("Nein: ",VLOOKUP($A29,Fragenkatalog!$A$1:$L$61,MATCH(C$13,Fragenkatalog!$1:$1,0),FALSE)) -> Nein: Es gibt noch offene Fragen oder Streitpunkte. | D29: =VLOOKUP($A29,Fragenkatalog!$A$1:$L$61,MATCH(D$26,Fragenkatalog!$1:$1,0),FALSE) -> Offene Punkte lassen sich klären. | E29: =_xlfn.CONCAT("Ja: ",VLOOKUP($A29,Fragenkatalog!$A$1:$L$61,MATCH(E$13,Fragenkatalog!$1:$1,0),FALSE)) -> Ja: Alle Fragen sind geklärt. | H29: nein | I29: =IF(F29=LookupTabellen!$A$7,0,IFERROR(VLOOKUP(A29,Fragenkatalog!A:N,13,FALSE),"")) -> 1 | J29: =IF(OR(F29="",AND(G29="",F29<>LookupTabellen!$A$6,F29<>LookupTabellen!$A$7)),0,IFERROR(VLOOKUP(F29,LookupTabellen!$A$3:$B$7,2,FALSE)*VLOOKUP(A29,Fragenkatalog!A:N,13,FALSE),"")) -> 0 | K29: =IF(OR(F29="",AND(G29="",F29<>LookupTabellen!$A$6,F29<>LookupTabellen!$A$7)),0,IFERROR(VLOOKUP(F29,LookupTabellen!$A$3:$C$7,3,FALSE)*VLOOKUP(G29,LookupTabellen!$D$3:$F$5,3,FALSE)*VLOOKUP(A29,Fragenkatalog!A:N,13,FALSE),"")) -> 0 | L29: =IF(F29=LookupTabellen!$A$6,0,IFERROR(ABS(VLOOKUP(A29,Fragenkatalog!A:N,14,FALSE)),"")) -> 0.75 | M29: =IFERROR((IF(VLOOKUP(A29,Fragenkatalog!A:N,14,FALSE)<0,-4,0)+VLOOKUP(F29,LookupTabellen!$A$3:$B$7,2,FALSE))*VLOOKUP(A29,Fragenkatalog!A:N,14,FALSE),"") | N29: =IFERROR(VLOOKUP(G29,LookupTabellen!$D$3:$E$5,2,FALSE)*AND(H29<>"Antwort auswählen",F29<>LookupTabellen!$A$6,F29<>LookupTabellen!$A$7),0) -> 0 | O29: =IF(F29=LookupTabellen!$A$3,IF(VLOOKUP($A29,Fragenkatalog!$A$1:$L$61,MATCH($C$13,Fragenkatalog!$1:$1,0),FALSE)=0,"",CONCATENATE(VLOOKUP(H29,LookupTabellen!$H$2:$I$3,2,FALSE),VLOOKUP($A29,Fragenkatalog!$A$1:$L$61,MATCH($C$13,Fragenkatalog!$1:$1,0),FALSE))),"") | P29: =IF(O29="",IF(OR(F29=LookupTabellen!$A$6,F29="",G29=LookupTabellen!$D$3),IF(VLOOKUP($A29,Fragenkatalog!$A$1:$L$61,MATCH("Frage",Fragenkatalog!$1:$1,0),FALSE)=0,"",CONCATENATE(VLOOKUP(H29,LookupTabellen!$H$2:$I$3,2,FALSE),VLOOKUP($A29,Fragenkatalog!$A$1:$L$61,MATCH("Frage",Fragenkatalog!$1:$1,0),FALSE))),""),"") -> Sind alle Fragen der Autorenschaft geklärt? | Q29: =VLOOKUP($A29,Fragenkatalog!$A$1:$L$61,MATCH(Q$26,Fragenkatalog!$1:$1,0),FALSE) -> Zu den Fragen der Autorenschaft zählen u.a.: Wer sind die involvierten Entwickler? Wie groß sind die jeweiligen Beiträge? Wurden Fragen der Vergütung usw. geklärt?
A30: T02b | B30: =VLOOKUP($A30,Fragenkatalog!$A$1:$L$61,MATCH(B$26,Fragenkatalog!$1:$1,0),FALSE) -> Ist die Autorenschaft gut dokumentiert? | C30: =_xlfn.CONCAT("Nein: ",VLOOKUP($A30,Fragenkatalog!$A$1:$L$61,MATCH(C$13,Fragenkatalog!$1:$1,0),FALSE)) -> Nein: Dokumente zur Autorenschaft und zu einzelnen Beiträgen liegen nicht vor. | D30: =VLOOKUP($A30,Fragenkatalog!$A$1:$L$61,MATCH(D$26,Fragenkatalog!$1:$1,0),FALSE) -> Die Autorenschaft geht aus schriftlicher Kommunikation hervor. | E30: =_xlfn.CONCAT("Ja: ",VLOOKUP($A30,Fragenkatalog!$A$1:$L$61,MATCH(E$13,Fragenkatalog!$1:$1,0),FALSE)) -> Ja: Die Dokumentation ist ausreichend und verständlich. | H30: nein | I30: =IF(F30=LookupTabellen!$A$7,0,IFERROR(VLOOKUP(A30,Fragenkatalog!A:N,13,FALSE),"")) -> 1 | J30: =IF(OR(F30="",AND(G30="",F30<>LookupTabellen!$A$6,F30<>LookupTabellen!$A$7)),0,IFERROR(VLOOKUP(F30,LookupTabellen!$A$3:$B$7,2,FALSE)*VLOOKUP(A30,Fragenkatalog!A:N,13,FALSE),"")) -> 0 | K30: =IF(OR(F30="",AND(G30="",F30<>LookupTabellen!$A$6,F30<>LookupTabellen!$A$7)),0,IFERROR(VLOOKUP(F30,LookupTabellen!$A$3:$C$7,3,FALSE)*VLOOKUP(G30,LookupTabellen!$D$3:$F$5,3,FALSE)*VLOOKUP(A30,Fragenkatalog!A:N,13,FALSE),"")) -> 0 | L30: =IF(F30=LookupTabellen!$A$6,0,IFERROR(ABS(VLOOKUP(A30,Fragenkatalog!A:N,14,FALSE)),"")) -> 0.85 | M30: =IFERROR((IF(VLOOKUP(A30,Fragenkatalog!A:N,14,FALSE)<0,-4,0)+VLOOKUP(F30,LookupTabellen!$A$3:$B$7,2,FALSE))*VLOOKUP(A30,Fragenkatalog!A:N,14,FALSE),"") | N30: =IFERROR(VLOOKUP(G30,LookupTabellen!$D$3:$E$5,2,FALSE)*AND(H30<>"Antwort auswählen",F30<>LookupTabellen!$A$6,F30<>LookupTabellen!$A$7),0) -> 0 | O30: =IF(F30=LookupTabellen!$A$3,IF(VLOOKUP($A30,Fragenkatalog!$A$1:$L$61,MATCH($C$13,Fragenkatalog!$1:$1,0),FALSE)=0,"",CONCATENATE(VLOOKUP(H30,LookupTabellen!$H$2:$I$3,2,FALSE),VLOOKUP($A30,Fragenkatalog!$A$1:$L$61,MATCH($C$13,Fragenkatalog!$1:$1,0),FALSE))),"") | P30: =IF(O30="",IF(OR(F30=LookupTabellen!$A$6,F30="",G30=LookupTabellen!$D$3),IF(VLOOKUP($A30,Fragenkatalog!$A$1:$L$61,MATCH("Frage",Fragenkatalog!$1:$1,0),FALSE)=0,"",CONCATENATE(VLOOKUP(H30,LookupTabellen!$H$2:$I$3,2,FALSE),VLOOKUP($A30,Fragenkatalog!$A$1:$L$61,MATCH("Frage",Fragenkatalog!$1:$1,0),FALSE))),""),"") -> Ist die Autorenschaft gut dokumentiert? | Q30: =VLOOKUP($A30,Fragenkatalog!$A$1:$L$61,MATCH(Q$26,Fragenkatalog!$1:$1,0),FALSE) -> Geht aus der Dokumentation hervor, wer an der Entwicklung beteiligt war/ist und wie groß der jeweilige Anteil/Beitrag zur Hardware war/ist? Hierbei ist auch die Form der Dokumentation entscheidend. Existieren lediglich mündliche Absprachen, kann dies nicht mit "gut" bewertet werden. Besser wäre es, wenn zumindest aus schriftlicher Kommunikation hervorgeht, wer was gemacht hat. Eine gute Dokumentation sollte bspw. in Form eines Repository oder einer Erfindungsmeldung vorliegen.
A31: T03a | B31: =VLOOKUP($A31,Fragenkatalog!$A$1:$L$61,MATCH(B$26,Fragenkatalog!$1:$1,0),FALSE) -> Verfügt das Entwicklerteam über genügend Ressourcen für die Verwertung? | C31: =_xlfn.CONCAT("Nein: ",VLOOKUP($A31,Fragenkatalog!$A$1:$L$61,MATCH(C$13,Fragenkatalog!$1:$1,0),FALSE)) -> Nein: Es fehlen sowohl Geld als auch Zeit. | D31: =VLOOKUP($A31,Fragenkatalog!$A$1:$L$61,MATCH(D$26,Fragenkatalog!$1:$1,0),FALSE) -> Es fehlt entweder Geld oder Zeit. | E31: =_xlfn.CONCAT("Ja: ",VLOOKUP($A31,Fragenkatalog!$A$1:$L$61,MATCH(E$13,Fragenkatalog!$1:$1,0),FALSE)) -> Ja: Es sind ausreichend Res-sourcen vorhanden. | H31: nein | I31: =IF(F31=LookupTabellen!$A$7,0,IFERROR(VLOOKUP(A31,Fragenkatalog!A:N,13,FALSE),"")) -> 1 | J31: =IF(OR(F31="",AND(G31="",F31<>LookupTabellen!$A$6,F31<>LookupTabellen!$A$7)),0,IFERROR(VLOOKUP(F31,LookupTabellen!$A$3:$B$7,2,FALSE)*VLOOKUP(A31,Fragenkatalog!A:N,13,FALSE),"")) -> 0 | K31: =IF(OR(F31="",AND(G31="",F31<>LookupTabellen!$A$6,F31<>LookupTabellen!$A$7)),0,IFERROR(VLOOKUP(F31,LookupTabellen!$A$3:$C$7,3,FALSE)*VLOOKUP(G31,LookupTabellen!$D$3:$F$5,3,FALSE)*VLOOKUP(A31,Fragenkatalog!A:N,13,FALSE),"")) -> 0 | L31: =IF(F31=LookupTabellen!$A$6,0,IFERROR(ABS(VLOOKUP(A31,Fragenkatalog!A:N,14,FALSE)),"")) -> 0.85 | M31: =IFERROR((IF(VLOOKUP(A31,Fragenkatalog!A:N,14,FALSE)<0,-4,0)+VLOOKUP(F31,LookupTabellen!$A$3:$B$7,2,FALSE))*VLOOKUP(A31,Fragenkatalog!A:N,14,FALSE),"") | N31: =IFERROR(VLOOKUP(G31,LookupTabellen!$D$3:$E$5,2,FALSE)*AND(H31<>"Antwort auswählen",F31<>LookupTabellen!$A$6,F31<>LookupTabellen!$A$7),0) -> 0 | O31: =IF(F31=LookupTabellen!$A$3,IF(VLOOKUP($A31,Fragenkatalog!$A$1:$L$61,MATCH($C$13,Fragenkatalog!$1:$1,0),FALSE)=0,"",CONCATENATE(VLOOKUP(H31,LookupTabellen!$H$2:$I$3,2,FALSE),VLOOKUP($A31,Fragenkatalog!$A$1:$L$61,MATCH($C$13,Fragenkatalog!$1:$1,0),FALSE))),"") | P31: =IF(O31="",IF(OR(F31=LookupTabellen!$A$6,F31="",G31=LookupTabellen!$D$3),IF(VLOOKUP($A31,Fragenkatalog!$A$1:$L$61,MATCH("Frage",Fragenkatalog!$1:$1,0),FALSE)=0,"",CONCATENATE(VLOOKUP(H31,LookupTabellen!$H$2:$I$3,2,FALSE),VLOOKUP($A31,Fragenkatalog!$A$1:$L$61,MATCH("Frage",Fragenkatalog!$1:$1,0),FALSE))),""),"") -> Verfügt das Entwicklerteam über genügend Ressourcen für die Verwertung? | Q31: =VLOOKUP($A31,Fragenkatalog!$A$1:$L$61,MATCH(Q$26,Fragenkatalog!$1:$1,0),FALSE) -> Ressourcen sind sowohl Zeit als auch Geld, die dem Team für die Entwicklung und Verwertung zur Verfügung stehen.
A32: T03b | B32: =VLOOKUP($A32,Fragenkatalog!$A$1:$L$61,MATCH(B$26,Fragenkatalog!$1:$1,0),FALSE) -> Verfügt das Entwicklerteam über die notwendigen Kompetenzen? | C32: =_xlfn.CONCAT("Nein: ",VLOOKUP($A32,Fragenkatalog!$A$1:$L$61,MATCH(C$13,Fragenkatalog!$1:$1,0),FALSE)) -> Nein: Es fehlen wichtige Kompetenzen. | D32: =VLOOKUP($A32,Fragenkatalog!$A$1:$L$61,MATCH(D$26,Fragenkatalog!$1:$1,0),FALSE) -> Fehlende Kompetenzen können erworben werden. | E32: =_xlfn.CONCAT("Ja: ",VLOOKUP($A32,Fragenkatalog!$A$1:$L$61,MATCH(E$13,Fragenkatalog!$1:$1,0),FALSE)) -> Ja: Alle nötigen Kompetenzen sind vorhanden. | H32: nein | I32: =IF(F32=LookupTabellen!$A$7,0,IFERROR(VLOOKUP(A32,Fragenkatalog!A:N,13,FALSE),"")) -> 1 | J32: =IF(OR(F32="",AND(G32="",F32<>LookupTabellen!$A$6,F32<>LookupTabellen!$A$7)),0,IFERROR(VLOOKUP(F32,LookupTabellen!$A$3:$B$7,2,FALSE)*VLOOKUP(A32,Fragenkatalog!A:N,13,FALSE),"")) -> 0 | K32: =IF(OR(F32="",AND(G32="",F32<>LookupTabellen!$A$6,F32<>LookupTabellen!$A$7)),0,IFERROR(VLOOKUP(F32,LookupTabellen!$A$3:$C$7,3,FALSE)*VLOOKUP(G32,LookupTabellen!$D$3:$F$5,3,FALSE)*VLOOKUP(A32,Fragenkatalog!A:N,13,FALSE),"")) -> 0 | L32: =IF(F32=LookupTabellen!$A$6,0,IFERROR(ABS(VLOOKUP(A32,Fragenkatalog!A:N,14,FALSE)),"")) -> 0.85 | M32: =IFERROR((IF(VLOOKUP(A32,Fragenkatalog!A:N,14,FALSE)<0,-4,0)+VLOOKUP(F32,LookupTabellen!$A$3:$B$7,2,FALSE))*VLOOKUP(A32,Fragenkatalog!A:N,14,FALSE),"") | N32: =IFERROR(VLOOKUP(G32,LookupTabellen!$D$3:$E$5,2,FALSE)*AND(H32<>"Antwort auswählen",F32<>LookupTabellen!$A$6,F32<>LookupTabellen!$A$7),0) -> 0 | O32: =IF(F32=LookupTabellen!$A$3,IF(VLOOKUP($A32,Fragenkatalog!$A$1:$L$61,MATCH($C$13,Fragenkatalog!$1:$1,0),FALSE)=0,"",CONCATENATE(VLOOKUP(H32,LookupTabellen!$H$2:$I$3,2,FALSE),VLOOKUP($A32,Fragenkatalog!$A$1:$L$61,MATCH($C$13,Fragenkatalog!$1:$1,0),FALSE))),"") | P32: =IF(O32="",IF(OR(F32=LookupTabellen!$A$6,F32="",G32=LookupTabellen!$D$3),IF(VLOOKUP($A32,Fragenkatalog!$A$1:$L$61,MATCH("Frage",Fragenkatalog!$1:$1,0),FALSE)=0,"",CONCATENATE(VLOOKUP(H32,LookupTabellen!$H$2:$I$3,2,FALSE),VLOOKUP($A32,Fragenkatalog!$A$1:$L$61,MATCH("Frage",Fragenkatalog!$1:$1,0),FALSE))),""),"") -> Verfügt das Entwicklerteam über die notwendigen Kompetenzen? | Q32: =VLOOKUP($A32,Fragenkatalog!$A$1:$L$61,MATCH(Q$26,Fragenkatalog!$1:$1,0),FALSE) -> Kompetenzen können sich auf die Entwicklung der Hardware (z.B. Kenntnisse zum Aufbau und der Funktionsweise oder auch theoretisches Wissen im Fachgebiet) oder auf die Verwertung (fehlendes Know-how über Rechte, Markt etc.) beziehen.
A33: T03c | B33: =VLOOKUP($A33,Fragenkatalog!$A$1:$L$61,MATCH(B$26,Fragenkatalog!$1:$1,0),FALSE) -> Ist das Entwicklerteam gut mit der Community und/oder Industrie vernetzt? | C33: =_xlfn.CONCAT("Nein: ",VLOOKUP($A33,Fragenkatalog!$A$1:$L$61,MATCH(C$13,Fragenkatalog!$1:$1,0),FALSE)) -> Nein: Es gibt keine Vernetzungen. | D33: =VLOOKUP($A33,Fragenkatalog!$A$1:$L$61,MATCH(D$26,Fragenkatalog!$1:$1,0),FALSE) -> Das Entwicklerteam ist in die Forschungscommunity oder in die Industrie integriert. | E33: =_xlfn.CONCAT("Ja: ",VLOOKUP($A33,Fragenkatalog!$A$1:$L$61,MATCH(E$13,Fragenkatalog!$1:$1,0),FALSE)) -> Ja: Das Entwicklerteam ist in beide Bereiche gut integriert. | H33: nein | I33: =IF(F33=LookupTabellen!$A$7,0,IFERROR(VLOOKUP(A33,Fragenkatalog!A:N,13,FALSE),"")) -> 1 | J33: =IF(OR(F33="",AND(G33="",F33<>LookupTabellen!$A$6,F33<>LookupTabellen!$A$7)),0,IFERROR(VLOOKUP(F33,LookupTabellen!$A$3:$B$7,2,FALSE)*VLOOKUP(A33,Fragenkatalog!A:N,13,FALSE),"")) -> 0 | K33: =IF(OR(F33="",AND(G33="",F33<>LookupTabellen!$A$6,F33<>LookupTabellen!$A$7)),0,IFERROR(VLOOKUP(F33,LookupTabellen!$A$3:$C$7,3,FALSE)*VLOOKUP(G33,LookupTabellen!$D$3:$F$5,3,FALSE)*VLOOKUP(A33,Fragenkatalog!A:N,13,FALSE),"")) -> 0 | L33: =IF(F33=LookupTabellen!$A$6,0,IFERROR(ABS(VLOOKUP(A33,Fragenkatalog!A:N,14,FALSE)),"")) -> 0.5 | M33: =IFERROR((IF(VLOOKUP(A33,Fragenkatalog!A:N,14,FALSE)<0,-4,0)+VLOOKUP(F33,LookupTabellen!$A$3:$B$7,2,FALSE))*VLOOKUP(A33,Fragenkatalog!A:N,14,FALSE),"") | N33: =IFERROR(VLOOKUP(G33,LookupTabellen!$D$3:$E$5,2,FALSE)*AND(H33<>"Antwort auswählen",F33<>LookupTabellen!$A$6,F33<>LookupTabellen!$A$7),0) -> 0 | O33: =IF(F33=LookupTabellen!$A$3,IF(VLOOKUP($A33,Fragenkatalog!$A$1:$L$61,MATCH($C$13,Fragenkatalog!$1:$1,0),FALSE)=0,"",CONCATENATE(VLOOKUP(H33,LookupTabellen!$H$2:$I$3,2,FALSE),VLOOKUP($A33,Fragenkatalog!$A$1:$L$61,MATCH($C$13,Fragenkatalog!$1:$1,0),FALSE))),"") | P33: =IF(O33="",IF(OR(F33=LookupTabellen!$A$6,F33="",G33=LookupTabellen!$D$3),IF(VLOOKUP($A33,Fragenkatalog!$A$1:$L$61,MATCH("Frage",Fragenkatalog!$1:$1,0),FALSE)=0,"",CONCATENATE(VLOOKUP(H33,LookupTabellen!$H$2:$I$3,2,FALSE),VLOOKUP($A33,Fragenkatalog!$A$1:$L$61,MATCH("Frage",Fragenkatalog!$1:$1,0),FALSE))),""),"") -> Ist das Entwicklerteam gut mit der Community und/oder Industrie vernetzt? | Q33: =VLOOKUP($A33,Fragenkatalog!$A$1:$L$61,MATCH(Q$26,Fragenkatalog!$1:$1,0),FALSE) -> Anerkennung/Etablierung im relevanten Gebiet, Unterstützung und Kontakte zu Industrie, ggfs. Vertriebsnetze (direkte Kontakte aus dem Bereich der Entwicklerschaft/Lehrstuhlinhaber usw.).
E34: =IFERROR(SUM(K27:K33)/SUM(I27:I33),0) -> 0 | F34: =IFERROR(SUM(J27:J33)/SUM(I27:I33),0) -> 0 | G34: =IFERROR(SUM(N27:N33)/(COUNTIF(F27:F33,"<>nicht relevant")),"Bewertung nicht möglich") -> 0
E35: Wertung (Punkte) | F35: Wertung (Prozent) | G35: Zuversicht
A36: EINRICHTUNG | U36: =IF(G36=LookupTabellen!$D$3,IF(VLOOKUP($A36,Fragenkatalog!$A$1:$L$61,MATCH("Frage",Fragenkatalog!$1:$1,0),FALSE)=0,"",VLOOKUP($A36,Fragenkatalog!$A$1:$L$61,MATCH("Frage",Fragenkatalog!$1:$1,0),FALSE)),"")
A37: ID | B37: Frage | C37: Nein (schlecht = 0) | D37: dazwischen (0,5) | E37: Ja (gut = 1) | F37: Antwort | G37: Zuversicht der Bewertung | H37: Gewichtete Wertung | I37: Gewichtung Dimension | J37: Punkte Prozent | K37: Punkte Altes System | L37: Gewichtung Spinout | M37: Punkte Spinout | N37: Punkte Zuversicht | O37: Ausgabe Probleme | P37: Ausgabe offene Fragen | Q37: Beschreibung
A38: E01a | B38: =VLOOKUP($A38,Fragenkatalog!$A$1:$L$61,MATCH(B$37,Fragenkatalog!$1:$1,0),FALSE) -> Passt die Verwertung der Hardware zur strategischen Ausrichtung der Einrichtung? | C38: =_xlfn.CONCAT("Nein: ",VLOOKUP($A38,Fragenkatalog!$A$1:$L$61,MATCH(C$13,Fragenkatalog!$1:$1,0),FALSE)) -> Nein: Die Verwertung passt nicht zur strategischen Ausrichtung der Einrichtung. | D38: =VLOOKUP($A38,Fragenkatalog!$A$1:$L$61,MATCH(D$13,Fragenkatalog!$1:$1,0),FALSE) -> Die Hardware passt nur bedingt zur Einrichtung und/oder es besteht ein Interesse an der Verwertung. | E38: =_xlfn.CONCAT("Ja: ",VLOOKUP($A38,Fragenkatalog!$A$1:$L$61,MATCH(E$13,Fragenkatalog!$1:$1,0),FALSE)) -> Ja: Die Hardware passt in das Portfolio der Einrichtung und soll verwertet werden. | H38: nein | I38: =IF(F38=LookupTabellen!$A$7,0,IFERROR(VLOOKUP(A38,Fragenkatalog!A:N,13,FALSE),"")) -> 1 | J38: =IF(OR(F38="",AND(G38="",F38<>LookupTabellen!$A$6,F38<>LookupTabellen!$A$7)),0,IFERROR(VLOOKUP(F38,LookupTabellen!$A$3:$B$7,2,FALSE)*VLOOKUP(A38,Fragenkatalog!A:N,13,FALSE),"")) -> 0 | K38: =IF(OR(F38="",AND(G38="",F38<>LookupTabellen!$A$6,F38<>LookupTabellen!$A$7)),0,IFERROR(VLOOKUP(F38,LookupTabellen!$A$3:$C$7,3,FALSE)*VLOOKUP(G38,LookupTabellen!$D$3:$F$5,3,FALSE)*VLOOKUP(A38,Fragenkatalog!A:N,13,FALSE),"")) -> 0 | L38: =IF(F38=LookupTabellen!$A$6,0,IFERROR(ABS(VLOOKUP(A38,Fragenkatalog!A:N,14,FALSE)),"")) -> 0.1 | M38: =IFERROR((IF(VLOOKUP(A38,Fragenkatalog!A:N,14,FALSE)<0,-4,0)+VLOOKUP(F38,LookupTabellen!$A$3:$B$7,2,FALSE))*VLOOKUP(A38,Fragenkatalog!A:N,14,FALSE),"") | N38: =IFERROR(VLOOKUP(G38,LookupTabellen!$D$3:$E$5,2,FALSE)*AND(H38<>"Antwort auswählen",F38<>LookupTabellen!$A$6,F38<>LookupTabellen!$A$7),0) -> 0 | O38: =IF(F38=LookupTabellen!$A$3,IF(VLOOKUP($A38,Fragenkatalog!$A$1:$L$61,MATCH($C$13,Fragenkatalog!$1:$1,0),FALSE)=0,"",CONCATENATE(VLOOKUP(H38,LookupTabellen!$H$2:$I$3,2,FALSE),VLOOKUP($A38,Fragenkatalog!$A$1:$L$61,MATCH($C$13,Fragenkatalog!$1:$1,0),FALSE))),"") | P38: =IF(O38="",IF(OR(F38=LookupTabellen!$A$6,F38="",G38=LookupTabellen!$D$3),IF(VLOOKUP($A38,Fragenkatalog!$A$1:$L$61,MATCH("Frage",Fragenkatalog!$1:$1,0),FALSE)=0,"",CONCATENATE(VLOOKUP(H38,LookupTabellen!$H$2:$I$3,2,FALSE),VLOOKUP($A38,Fragenkatalog!$A$1:$L$61,MATCH("Frage",Fragenkatalog!$1:$1,0),FALSE))),""),"") -> Passt die Verwertung der Hardware zur strategischen Ausrichtung der Einrichtung? | Q38: =VLOOKUP($A38,Fragenkatalog!$A$1:$L$61,MATCH(Q$13,Fragenkatalog!$1:$1,0),FALSE) -> Aus verschiedenen Gründen kann die Verwertung der Hardware nicht zur Einrichtung passen oder kein Interesse an der Verwertung seitens der Einrichtung bestehen. Gründe können sein: die Verwertung passt nicht ins bestehende Portfolio, schränkt zukünftige Forschungsaktivitäten ein (z.B. durch den Wegfall von Know-how), bedient einen Markt, der nicht von der Einrichtung gewünscht ist (z.B. militärische Nutzung) oder hat nichts mit der Ausrichtung der Einrichtung generell zu tun.
A39: E01b | B39: =VLOOKUP($A39,Fragenkatalog!$A$1:$L$61,MATCH(B$37,Fragenkatalog!$1:$1,0),FALSE) -> Passen die Vorstellungen von Team und Einrichtung bzgl. der Hardwareverwertung zusammen? | C39: =_xlfn.CONCAT("Nein: ",VLOOKUP($A39,Fragenkatalog!$A$1:$L$61,MATCH(C$13,Fragenkatalog!$1:$1,0),FALSE)) -> Nein: Die Vorstellungen passen nicht zusammen und keine der beiden Seiten ist kompromissbereit. | D39: =VLOOKUP($A39,Fragenkatalog!$A$1:$L$61,MATCH(D$37,Fragenkatalog!$1:$1,0),FALSE) -> Die Vorstellungen passen nicht zusammen, die Einrichtung ist aber kompromissbereit. | E39: =_xlfn.CONCAT("Ja: ",VLOOKUP($A39,Fragenkatalog!$A$1:$L$61,MATCH(E$13,Fragenkatalog!$1:$1,0),FALSE)) -> Ja: Die Vorstellungen passen zusammen. | H39: nein | I39: =IF(F39=LookupTabellen!$A$7,0,IFERROR(VLOOKUP(A39,Fragenkatalog!A:N,13,FALSE),"")) -> 1 | J39: =IF(OR(F39="",AND(G39="",F39<>LookupTabellen!$A$6,F39<>LookupTabellen!$A$7)),0,IFERROR(VLOOKUP(F39,LookupTabellen!$A$3:$B$7,2,FALSE)*VLOOKUP(A39,Fragenkatalog!A:N,13,FALSE),"")) -> 0 | K39: =IF(OR(F39="",AND(G39="",F39<>LookupTabellen!$A$6,F39<>LookupTabellen!$A$7)),0,IFERROR(VLOOKUP(F39,LookupTabellen!$A$3:$C$7,3,FALSE)*VLOOKUP(G39,LookupTabellen!$D$3:$F$5,3,FALSE)*VLOOKUP(A39,Fragenkatalog!A:N,13,FALSE),"")) -> 0 | L39: =IF(F39=LookupTabellen!$A$6,0,IFERROR(ABS(VLOOKUP(A39,Fragenkatalog!A:N,14,FALSE)),"")) -> 0.8 | M39: =IFERROR((IF(VLOOKUP(A39,Fragenkatalog!A:N,14,FALSE)<0,-4,0)+VLOOKUP(F39,LookupTabellen!$A$3:$B$7,2,FALSE))*VLOOKUP(A39,Fragenkatalog!A:N,14,FALSE),"") | N39: =IFERROR(VLOOKUP(G39,LookupTabellen!$D$3:$E$5,2,FALSE)*AND(H39<>"Antwort auswählen",F39<>LookupTabellen!$A$6,F39<>LookupTabellen!$A$7),0) -> 0 | O39: =IF(F39=LookupTabellen!$A$3,IF(VLOOKUP($A39,Fragenkatalog!$A$1:$L$61,MATCH($C$13,Fragenkatalog!$1:$1,0),FALSE)=0,"",CONCATENATE(VLOOKUP(H39,LookupTabellen!$H$2:$I$3,2,FALSE),VLOOKUP($A39,Fragenkatalog!$A$1:$L$61,MATCH($C$13,Fragenkatalog!$1:$1,0),FALSE))),"") | P39: =IF(O39="",IF(OR(F39=LookupTabellen!$A$6,F39="",G39=LookupTabellen!$D$3),IF(VLOOKUP($A39,Fragenkatalog!$A$1:$L$61,MATCH("Frage",Fragenkatalog!$1:$1,0),FALSE)=0,"",CONCATENATE(VLOOKUP(H39,LookupTabellen!$H$2:$I$3,2,FALSE),VLOOKUP($A39,Fragenkatalog!$A$1:$L$61,MATCH("Frage",Fragenkatalog!$1:$1,0),FALSE))),""),"") -> Passen die Vorstellungen von Team und Einrichtung bzgl. der Hardwareverwertung zusammen? | Q39: =VLOOKUP($A39,Fragenkatalog!$A$1:$L$61,MATCH(Q$37,Fragenkatalog!$1:$1,0),FALSE) -> Haben Einrichtung und Entwicklerteam die gleichen Erwartungen bzgl. der Verwertung der Hardware? Möchte die Einrichtung die Hardware z.B. kommerziell verwerten, das Team jedoch als Open Source veröffentlichen, dann entsteht ein Mehraufwand für die Vermittlung beider Seiten. Ausschlaggebend ist weiterhin, wie aufgeschlossen die Einrichtung/Lehrstuhl für Kompromisse ist.
A40: E02a | B40: =VLOOKUP($A40,Fragenkatalog!$A$1:$L$61,MATCH(B$37,Fragenkatalog!$1:$1,0),FALSE) -> Liegen alle Nutzungs- und Verwertungsrechte bei der Einrichtung? | C40: =_xlfn.CONCAT("Nein: ",VLOOKUP($A40,Fragenkatalog!$A$1:$L$61,MATCH(C$13,Fragenkatalog!$1:$1,0),FALSE)) -> Nein: Nicht alle Rechte liegen bei der Einrichtung. | D40: =VLOOKUP($A40,Fragenkatalog!$A$1:$L$61,MATCH(D$37,Fragenkatalog!$1:$1,0),FALSE) -> Rechte können noch erworben oder geklärt werden. | E40: =_xlfn.CONCAT("Ja: ",VLOOKUP($A40,Fragenkatalog!$A$1:$L$61,MATCH(E$13,Fragenkatalog!$1:$1,0),FALSE)) -> Ja: Die Einrichtung besitzt alle Nutzungs- und Verwertungsrechte. | H40: nein | I40: =IF(F40=LookupTabellen!$A$7,0,IFERROR(VLOOKUP(A40,Fragenkatalog!A:N,13,FALSE),"")) -> 1 | J40: =IF(OR(F40="",AND(G40="",F40<>LookupTabellen!$A$6,F40<>LookupTabellen!$A$7)),0,IFERROR(VLOOKUP(F40,LookupTabellen!$A$3:$B$7,2,FALSE)*VLOOKUP(A40,Fragenkatalog!A:N,13,FALSE),"")) -> 0 | K40: =IF(OR(F40="",AND(G40="",F40<>LookupTabellen!$A$6,F40<>LookupTabellen!$A$7)),0,IFERROR(VLOOKUP(F40,LookupTabellen!$A$3:$C$7,3,FALSE)*VLOOKUP(G40,LookupTabellen!$D$3:$F$5,3,FALSE)*VLOOKUP(A40,Fragenkatalog!A:N,13,FALSE),"")) -> 0 | L40: =IF(F40=LookupTabellen!$A$6,0,IFERROR(ABS(VLOOKUP(A40,Fragenkatalog!A:N,14,FALSE)),"")) -> 0.5 | M40: =IFERROR((IF(VLOOKUP(A40,Fragenkatalog!A:N,14,FALSE)<0,-4,0)+VLOOKUP(F40,LookupTabellen!$A$3:$B$7,2,FALSE))*VLOOKUP(A40,Fragenkatalog!A:N,14,FALSE),"") | N40: =IFERROR(VLOOKUP(G40,LookupTabellen!$D$3:$E$5,2,FALSE)*AND(H40<>"Antwort auswählen",F40<>LookupTabellen!$A$6,F40<>LookupTabellen!$A$7),0) -> 0 | O40: =IF(F40=LookupTabellen!$A$3,IF(VLOOKUP($A40,Fragenkatalog!$A$1:$L$61,MATCH($C$13,Fragenkatalog!$1:$1,0),FALSE)=0,"",CONCATENATE(VLOOKUP(H40,LookupTabellen!$H$2:$I$3,2,FALSE),VLOOKUP($A40,Fragenkatalog!$A$1:$L$61,MATCH($C$13,Fragenkatalog!$1:$1,0),FALSE))),"") | P40: =IF(O40="",IF(OR(F40=LookupTabellen!$A$6,F40="",G40=LookupTabellen!$D$3),IF(VLOOKUP($A40,Fragenkatalog!$A$1:$L$61,MATCH("Frage",Fragenkatalog!$1:$1,0),FALSE)=0,"",CONCATENATE(VLOOKUP(H40,LookupTabellen!$H$2:$I$3,2,FALSE),VLOOKUP($A40,Fragenkatalog!$A$1:$L$61,MATCH("Frage",Fragenkatalog!$1:$1,0),FALSE))),""),"") -> Liegen alle Nutzungs- und Verwertungsrechte bei der Einrichtung? | Q40: =VLOOKUP($A40,Fragenkatalog!$A$1:$L$61,MATCH(Q$37,Fragenkatalog!$1:$1,0),FALSE) -> Für eine Verwertung durch die Einrichtung ist es notwendig, dass alle Rechte bei der Einrichtung liegen. Ist dies nicht der Fall oder noch unklar, dann müssen diese Rechte wenn möglich über Lizenzen oder Kauf erworben werden.
...

Sheet Auswertung
A1: Case ID | B1: =IF(Bewertungsbogen!C5="","",Bewertungsbogen!C5) | E1: Institution | G1: =IF(Bewertungsbogen!C4="","",Bewertungsbogen!C4) | K1: Case ID | M1: =B1 | N1: Institution | O1: =G1
A2: Beschreibung Projekt | F2: Hardware | K2: =VLOOKUP(16-(C20>D45)*8-(C21>D46)*4-(C22>D47)*2-(C23>D48),Szenarien!A3:I19,9,FALSE) -> Projekt fallen lassen (15) | L2: Handlungsempfehlungen
A3: =IF(Bewertungsbogen!C6="","",Bewertungsbogen!C6) | F3: =_xlfn.CONCAT("Offene Fragen:",CHAR(10),_xlfn.TEXTJOIN(CHAR(10),TRUE,Bewertungsbogen!P14:P22),CHAR(10),CHAR(10),"Hindernisse:",CHAR(10),_xlfn.TEXTJOIN(CHAR(10),TRUE,Bewertungsbogen!O14:O22)) -> Offene Fragen: Ist die Hardware eine neuartige Erfindung? Ist die Hardware in Verwendung? Ist eine verwertbare Entwicklung der Hardware machbar? Ist die Hardware ausreichend dokumentiert? Können alle externen Komponenten für die Verwendung der Hardware eingesetzt werden? Besteht die Hardware aus verschiedenen Komponenten, die jeweils separat verwertet werden können? Kann die Hardware ohne Einsatz von Software betrieben werden? Kann die Hardware ohne spezielle Zulassungen verwertet werden? Lässt sich die Hardware unbedenklich für Umwelt, Mensch und/oder Gesellschaft verwenden? Hindernisse: | L3: =VLOOKUP(16-(C20>D45)*8-(C21>D46)*4-(C22>D47)*2-(C23>D48),Szenarien!A3:I19,9,FALSE) -> Projekt fallen lassen (15)
K8: =IFERROR(FIND("(",VLOOKUP(16-(C20>D45)*8-(C21>D46)*4-(C22>D47)*2-(C23>D48),Szenarien!A3:I19,9,FALSE))+1,"") -> 24 | L8: =IFERROR(VLOOKUP(INT(MID($K$2,K8,FIND(")",$K$2,K8)-K8)),Handlungsempfehlungen!$A$2:$C$17,2,FALSE),"") -> Projekt fallen lassen | M8: =IFERROR(VLOOKUP(INT(MID($K$2,K8,FIND(")",$K$2,K8)-K8)),Handlungsempfehlungen!$A$2:$C$17,3,FALSE),"") -> Die Bewertung ein letztes Mal prüfen, ob die Hardware tatsächlich so viele Defizite hinsichtlich der Verwertung hat. Wenn die Bewertung stimmt, sollte die Hardware fallen gelassen werden.
E11: =IFERROR(FIND("(",$A$33,K8)+1,"")
E12: =IFERROR(FIND("(",$A$33,E11)+1,"")
A13: Dimensionen | C13: Bewertung | D13: Zuversicht | K13: =IFERROR(FIND("(",VLOOKUP(16-(C20>D45)*8-(C21>D46)*4-(C22>D47)*2-(C23>D48),Szenarien!A3:I19,9,FALSE),K8)+1,"") | L13: =IFERROR(VLOOKUP(INT(MID($K$2,K13,FIND(")",$K$2,K13)-K13)),Handlungsempfehlungen!$A$2:$C$17,2,FALSE),"") | M13: =IFERROR(VLOOKUP(INT(MID($K$2,K13,FIND(")",$K$2,K13)-K13)),Handlungsempfehlungen!$A$2:$C$17,3,FALSE),"")
F15: Team
F16: =_xlfn.CONCAT("Offene Fragen:",CHAR(10),_xlfn.TEXTJOIN(CHAR(10),TRUE,Bewertungsbogen!P27:P33),CHAR(10),CHAR(10),"Hindernisse:",CHAR(10),_xlfn.TEXTJOIN(CHAR(10),TRUE,Bewertungsbogen!O27:O33)) -> Offene Fragen: Ist das Entwicklerteam bereit, die Verwertung der Hardware zu unterstützen? Ist das Entwicklerteam kompromissbereit und zeigt es eine realistische Erwartung bzgl. der angestrebten Verwertung? Sind alle Fragen der Autorenschaft geklärt? Ist die Autorenschaft gut dokumentiert? Verfügt das Entwicklerteam über genügend Ressourcen für die Verwertung? Verfügt das Entwicklerteam über die notwendigen Kompetenzen? Ist das Entwicklerteam gut mit der Community und/oder Industrie vernetzt? Hindernisse:
K18: =IFERROR(FIND("(",VLOOKUP(16-(C20>D45)*8-(C21>D46)*4-(C22>D47)*2-(C23>D48),Szenarien!A3:I19,9,FALSE),K13)+1,"") | L18: =IFERROR(VLOOKUP(INT(MID($K$2,K18,FIND(")",$K$2,K18)-K18)),Handlungsempfehlungen!$A$2:$C$17,2,FALSE),"") | M18: =IFERROR(VLOOKUP(INT(MID($K$2,K18,FIND(")",$K$2,K18)-K18)),Handlungsempfehlungen!$A$2:$C$17,3,FALSE),"")
A20: Hardware | C20: =Bewertungsbogen!F23 -> 0 | D20: =Bewertungsbogen!G23 -> 0
A21: Team | C21: =Bewertungsbogen!F34 -> 0 | D21: =Bewertungsbogen!G34 -> 0
A22: Einrichtung | C22: =Bewertungsbogen!F44 -> 0 | D22: =Bewertungsbogen!G44 -> 0
A23: Markt | C23: =Bewertungsbogen!F54 -> 0 | D23: =Bewertungsbogen!G54 -> 0 | K23: =IFERROR(FIND("(",VLOOKUP(16-(C20>D45)*8-(C21>D46)*4-(C22>D47)*2-(C23>D48),Szenarien!A3:I19,9,FALSE),K18)+1,"") | L23: =IFERROR(VLOOKUP(INT(MID($K$2,K23,FIND(")",$K$2,K23)-K23)),Handlungsempfehlungen!$A$2:$C$17,2,FALSE),"") | M23: =IFERROR(VLOOKUP(INT(MID($K$2,K23,FIND(")",$K$2,K23)-K23)),Handlungsempfehlungen!$A$2:$C$17,3,FALSE),"")
A24: Ausgründung | C24: =Bewertungsbogen!I9 -> 0 | D24: =Bewertungsbogen!J5 -> 0
A26: =VLOOKUP(16-(C20>D45)*8-(C21>D46)*4-(C22>D47)*2-(C23>D48),Szenarien!A3:H19,2,FALSE) -> Kritische Zone | D26: =IF((D20>=C45)*(D21>=C46)*(D22>=C47)*(D23>=C48)=0,"geringe Aussagekraft","") -> geringe Aussagekraft
F28: Einrichtung | K28: =IFERROR(FIND("(",VLOOKUP(16-(C20>D45)*8-(C21>D46)*4-(C22>D47)*2-(C23>D48),Szenarien!A3:I19,9,FALSE),K23)+1,"") | L28: =IFERROR(VLOOKUP(INT(MID($K$2,K28,FIND(")",$K$2,K28)-K28)),Handlungsempfehlungen!$A$2:$C$17,2,FALSE),"") | M28: =IFERROR(VLOOKUP(INT(MID($K$2,K28,FIND(")",$K$2,K28)-K28)),Handlungsempfehlungen!$A$2:$C$17,3,FALSE),"")
